BEGIN:VCALENDAR
VERSION:2.0
PRODID:-//Rapide des Ardennes - ECPv4.6.13//NONSGML v1.0//EN
CALSCALE:GREGORIAN
METHOD:PUBLISH
X-WR-CALNAME:Rapide des Ardennes
X-ORIGINAL-URL:http://www.rapide.lu
X-WR-CALDESC:Veranstaltungen für Rapide des Ardennes
BEGIN:VEVENT
DTSTART;VALUE=DATE:20180730
DTEND;VALUE=DATE:20180806
DTSTAMP:20180623T082443
CREATED:20180319T094710Z
LAST-MODIFIED:20180319T112724Z
UID:15683-1532908800-1533513599@www.rapide.lu
SUMMARY:Normandie – Trouville
DESCRIPTION:Unterkunft im Hotel Mercure Trouville sur Mer****\, liegt erstklassig in der Fussgängerzone der Innenstadt nur 100m vom Meer\, gegenüber dem Casino und Fischerhafen. \n
URL:http://www.rapide.lu/classes/normandie-trouville/
LOCATION:4 Place Foch\, Trouville-sur-Mer\, 14360\, France
CATEGORIES:Frankreich
ATTACH;FMTTYPE=image/jpeg:http://www.rapide.lu/wp-content/uploads/2018/03/Trouville.jpg
ORGANIZER;CN="Rapide%20des%20Ardennes":MAILTO:rapide@pt.lu
END:VEVENT
BEGIN:VEVENT
DTSTART;VALUE=DATE:20180824
DTEND;VALUE=DATE:20180830
DTSTAMP:20180623T082443
CREATED:20180319T094935Z
LAST-MODIFIED:20180319T112753Z
UID:15686-1535068800-1535587199@www.rapide.lu
SUMMARY:Blankenberge – Blumenkorso
DESCRIPTION:Unterkunft im Hotel Beach Palace*****\, liegt direkt am Strand\, nur 5 Gehminuten vom Stadtzentrum entfernt.  \n
URL:http://www.rapide.lu/classes/blankenberge-blumenkorso/
LOCATION:Zeedijk 77-79\, Blankenberge\, 8370\, Belgium
CATEGORIES:Belgien
ATTACH;FMTTYPE=image/jpeg:http://www.rapide.lu/wp-content/uploads/2018/03/blankenberge.jpg
ORGANIZER;CN="Rapide%20des%20Ardennes":MAILTO:rapide@pt.lu
END:VEVENT
END:VCALENDAR